BEGIN:VCALENDAR
VERSION:2.0
PRODID:-//ChamberMaster//Event Calendar 2.0//EN
METHOD:PUBLISH
X-PUBLISHED-TTL:P1H
REFRESH-INTERVAL:P1H
CALSCALE:GREGORIAN
BEGIN:VTIMEZONE
TZID:America/New_York
BEGIN:DAYLIGHT
RRULE:FREQ=YEARLY;BYMONTH=3;BYDAY=2SU
DTSTART:20070101T000000
TZOFFSETFROM:-0500
TZOFFSETTO:-0400
TZNAME:Eastern Daylight Time
END:DAYLIGHT
BEGIN:STANDARD
RRULE:FREQ=YEARLY;BYMONTH=11;BYDAY=1SU
DTSTART:20070101T000000
TZOFFSETFROM:-0400
TZOFFSETTO:-0500
TZNAME:Eastern Standard Time
END:STANDARD
END:VTIMEZONE
BEGIN:VEVENT
DTSTART;VALUE=DATE:20251118
DTEND;VALUE=DATE:20251119
TRANSP:TRANSPARENT
X-MICROSOFT-CDO-ALLDAYEVENT:TRUE
SUMMARY:Share the Warmth with Mast General Store and Columbia
DESCRIPTION:For 20 years\, Mast Store has asked its guests and customers to Share the Warmth by checking their closets for coats and jackets "looking" for a new home. Mast Store is working with local organizations to give your old jacket new purpose as someone else's favorite jacket.Each year\, Columbia Sportswear teams with Mast General Store to gather gently worn coats and jackets for our neighbors who need them during the coldest part of the year.Please make sure your gently used coat\, jacket\, sweater\, or blanket is clean and drop it off at any Mast Store location during the month of November. We'll deliver them to their new homes in time to give Jack Frost the cold shoulder. The Mast Store and Columbia thank you for making many of our neighbors' winters warmer and happier!
X-ALT-DESC;FMTTYPE=text/html:<!DOCTYPE html><html><head><title></title></head><body aria-disabled="false"><p>For 20 years\, Mast Store has asked its guests and customers to Share the Warmth by checking their closets for coats and jackets &ldquo\;looking&rdquo\; for a new home. Mast Store is working with local organizations to give your old jacket new purpose as someone else&rsquo\;s favorite jacket.</p><p>Each year\, Columbia Sportswear teams with Mast General Store to gather gently worn coats and jackets for our neighbors who need them during the coldest part of the year.</p><p>Please make sure your gently used coat\, jacket\, sweater\, or blanket is clean and drop it off at any Mast Store location during the month of November. We&rsquo\;ll deliver them to their new homes in time to give Jack Frost the cold shoulder. The Mast Store and Columbia thank you for making many of our neighbors&rsquo\; winters warmer and happier!</p></body></html>
LOCATION:
UID:e.3306.1330546
SEQUENCE:3
DTSTAMP:20260424T165122Z
URL:https://business.haywoodchamber.com/community-calendar/Details/share-the-warmth-with-mast-general-store-and-columbia-1561330?sourceTypeId=Hub
END:VEVENT
END:VCALENDAR
