BEGIN:VCALENDAR
VERSION:2.0
PRODID:-//ChamberMaster//Event Calendar 2.0//EN
METHOD:PUBLISH
X-PUBLISHED-TTL:P1H
REFRESH-INTERVAL:P1H
CALSCALE:GREGORIAN
BEGIN:VTIMEZONE
TZID:America/New_York
BEGIN:DAYLIGHT
RRULE:FREQ=YEARLY;BYMONTH=3;BYDAY=2SU
DTSTART:20070101T000000
TZOFFSETFROM:-0500
TZOFFSETTO:-0400
TZNAME:Eastern Daylight Time
END:DAYLIGHT
BEGIN:STANDARD
RRULE:FREQ=YEARLY;BYMONTH=11;BYDAY=1SU
DTSTART:20070101T000000
TZOFFSETFROM:-0400
TZOFFSETTO:-0500
TZNAME:Eastern Standard Time
END:STANDARD
END:VTIMEZONE
BEGIN:VEVENT
DTSTART;TZID=America/New_York:20261022T163000
DTEND;TZID=America/New_York:20261022T180000
X-MICROSOFT-CDO-ALLDAYEVENT:FALSE
SUMMARY:Women in Business Empower Hour October 22\, 2026
DESCRIPTION:Save the Date! 🎉Join us for Women in Business Empower Hour This is your chance to connect\, collaborate\, and grow with other female professionals in our community. Don't miss this fantastic networking opportunity! This event is open to interested non-members who want to know more about the Chamber... bring a guest! 🗓 Date: Thursday\, October 22\, 2026\n⏰ Time: 4:30 PM   6:00 PM\n📍 Location: Wells Funeral Home\, 3715 Asheville Hwy\, Canton\, NC 28716Ghouls just wanna have fun! So\, it is gravely important that you be there for our spooktacular after-hours event. We promise you'll leave with good spirits .er\, in good spirits.We're dying to show you around the funeral home. RSVP now to eat\, drink\, and be scary!\n*Please register to ensure we have enough refreshments. We can't wait to see you there!
X-ALT-DESC;FMTTYPE=text/html:<!DOCTYPE html><html><head><title></title></head><body aria-disabled="false"><div data-block="true" data-editor="fcknv" data-offset-key="65uv3-0-0" style='margin: 0px\; padding: 0px\; color: rgb(36\, 31\, 33)\; font-family: "Source Sans Pro"\, "Helvetica Neue"\, Helvetica\, Arial\; font-size: 16px\; font-style: normal\; font-variant-ligatures: normal\; font-variant-caps: normal\; font-weight: 400\; letter-spacing: normal\; orphans: 2\; text-align: start\; text-indent: 0px\; text-transform: none\; widows: 2\; word-spacing: 0px\; -webkit-text-stroke-width: 0px\; white-space: pre-wrap\; background-color: rgb(252\, 252\, 251)\; text-decoration-thickness: initial\; text-decoration-style: initial\; text-decoration-color: initial\;'><p data-end="79" data-start="56"><strong data-end="74" data-start="56" fr-original-style="" style="font-weight: 700\;">Save the Date!</strong> 🎉</p><p data-end="319" data-start="81">Join us for <strong fr-original-style="" style="font-weight: 700\;">Women in Business&nbsp\;</strong><strong data-end="109" data-start="93" fr-original-style="" style="font-weight: 700\;">Empower Hour&nbsp\;</strong></p><p data-end="319" data-start="81">This is your chance to <strong data-end="223" data-start="189" fr-original-style="" style="font-weight: 700\;">connect\, collaborate\, and grow</strong> with other female professionals in our community. Don&#39\;t miss this fantastic networking opportunity! This event is open to interested non-members who want to know more about the Chamber... bring a guest!&nbsp\;</p><p data-end="449" data-start="321">🗓 <strong data-end="333" data-start="324" fr-original-style="" style="font-weight: 700\;">Date:</strong> Thursday\, October 22\, 2026<br data-start="354" data-end="357">⏰ <strong data-end="368" data-start="359" fr-original-style="" style="font-weight: 700\;">Time:</strong> 4:30 PM &ndash\; 6:00 PM<br data-start="386" data-end="389">📍 <strong data-end="405" data-start="392" fr-original-style="" style="font-weight: 700\;">Location:</strong> Wells Funeral Home\, 3715 Asheville Hwy\, Canton\, NC 28716</p><p data-olk-copy-source="MessageBody" style="margin: 0in\; font-size: 12pt\; font-family: Aptos\, sans-serif\; color: rgb(36\, 36\, 36)\; font-style: normal\; font-variant-ligatures: normal\; font-variant-caps: normal\; font-weight: 400\; letter-spacing: normal\; orphans: 2\; text-align: start\; text-indent: 0px\; text-transform: none\; widows: 2\; word-spacing: 0px\; -webkit-text-stroke-width: 0px\; white-space: normal\; background-color: rgb(255\, 255\, 255)\; text-decoration-thickness: initial\; text-decoration-style: initial\; text-decoration-color: initial\;">Ghouls just wanna have fun!&nbsp\;</p><p data-olk-copy-source="MessageBody" style="margin: 0in\; font-size: 12pt\; font-family: Aptos\, sans-serif\; color: rgb(36\, 36\, 36)\; font-style: normal\; font-variant-ligatures: normal\; font-variant-caps: normal\; font-weight: 400\; letter-spacing: normal\; orphans: 2\; text-align: start\; text-indent: 0px\; text-transform: none\; widows: 2\; word-spacing: 0px\; -webkit-text-stroke-width: 0px\; white-space: normal\; background-color: rgb(255\, 255\, 255)\; text-decoration-thickness: initial\; text-decoration-style: initial\; text-decoration-color: initial\;">So\, it is gravely important that you be there for our spooktacular after-hours event.&nbsp\;</p><p data-olk-copy-source="MessageBody" style="margin: 0in\; font-size: 12pt\; font-family: Aptos\, sans-serif\; color: rgb(36\, 36\, 36)\; font-style: normal\; font-variant-ligatures: normal\; font-variant-caps: normal\; font-weight: 400\; letter-spacing: normal\; orphans: 2\; text-align: start\; text-indent: 0px\; text-transform: none\; widows: 2\; word-spacing: 0px\; -webkit-text-stroke-width: 0px\; white-space: normal\; background-color: rgb(255\, 255\, 255)\; text-decoration-thickness: initial\; text-decoration-style: initial\; text-decoration-color: initial\;">We promise you&rsquo\;ll leave with good spirits&hellip\;.er\, in good spirits.</p><p style="margin: 0in\; font-size: 12pt\; font-family: Aptos\, sans-serif\; color: rgb(36\, 36\, 36)\; font-style: normal\; font-variant-ligatures: normal\; font-variant-caps: normal\; font-weight: 400\; letter-spacing: normal\; orphans: 2\; text-align: start\; text-indent: 0px\; text-transform: none\; widows: 2\; word-spacing: 0px\; -webkit-text-stroke-width: 0px\; white-space: normal\; background-color: rgb(255\, 255\, 255)\; text-decoration-thickness: initial\; text-decoration-style: initial\; text-decoration-color: initial\;">We&rsquo\;re dying to show you around the funeral home.&nbsp\;</p><p style="margin: 0in\; font-size: 12pt\; font-family: Aptos\, sans-serif\; color: rgb(36\, 36\, 36)\; font-style: normal\; font-variant-ligatures: normal\; font-variant-caps: normal\; font-weight: 400\; letter-spacing: normal\; orphans: 2\; text-align: start\; text-indent: 0px\; text-transform: none\; widows: 2\; word-spacing: 0px\; -webkit-text-stroke-width: 0px\; white-space: normal\; background-color: rgb(255\, 255\, 255)\; text-decoration-thickness: initial\; text-decoration-style: initial\; text-decoration-color: initial\;">RSVP now to eat\, drink\, and be scary!</p><p style="margin: 0in\; font-size: 12pt\; font-family: Aptos\, sans-serif\; color: rgb(36\, 36\, 36)\; font-style: normal\; font-variant-ligatures: normal\; font-variant-caps: normal\; font-weight: 400\; letter-spacing: normal\; orphans: 2\; text-align: start\; text-indent: 0px\; text-transform: none\; widows: 2\; word-spacing: 0px\; -webkit-text-stroke-width: 0px\; white-space: normal\; background-color: rgb(255\, 255\, 255)\; text-decoration-thickness: initial\; text-decoration-style: initial\; text-decoration-color: initial\;"><br></p><p data-end="487" data-start="451">*<strong fr-original-style="" style="font-weight: 700\;"><em>Please register</em></strong><em>&nbsp\;to ensure we have enough refreshments</em>. We can&rsquo\;t wait to see you there!&nbsp\;</p></div><div data-block="true" data-editor="fcknv" data-offset-key="csgjp-0-0" style='margin: 0px\; padding: 0px\; color: rgb(36\, 31\, 33)\; font-family: "Source Sans Pro"\, "Helvetica Neue"\, Helvetica\, Arial\; font-size: 16px\; font-style: normal\; font-variant-ligatures: normal\; font-variant-caps: normal\; font-weight: 400\; letter-spacing: normal\; orphans: 2\; text-align: start\; text-indent: 0px\; text-transform: none\; widows: 2\; word-spacing: 0px\; -webkit-text-stroke-width: 0px\; white-space: pre-wrap\; background-color: rgb(252\, 252\, 251)\; text-decoration-thickness: initial\; text-decoration-style: initial\; text-decoration-color: initial\;'><br></div></body></html>
LOCATION:3715 Asheville Hwy Canton NC 28716
UID:e.3306.1320896
SEQUENCE:3
DTSTAMP:20260423T192251Z
URL:https://business.haywoodchamber.com/community-calendar/Details/women-in-business-empower-hour-october-22-2026-1549010?sourceTypeId=Hub
END:VEVENT
END:VCALENDAR
